BEGIN:VCALENDAR
VERSION:2.0
PRODID:-//Amecmd - Association Marocaine du E-commerce et Marketing Digital - ECPv6.15.13//NONSGML v1.0//EN
CALSCALE:GREGORIAN
METHOD:PUBLISH
X-ORIGINAL-URL:https://amecmd.ma
X-WR-CALDESC:Events for Amecmd - Association Marocaine du E-commerce et Marketing Digital
REFRESH-INTERVAL;VALUE=DURATION:PT1H
X-Robots-Tag:noindex
X-PUBLISHED-TTL:PT1H
BEGIN:VTIMEZONE
TZID:UTC
BEGIN:STANDARD
TZOFFSETFROM:+0000
TZOFFSETTO:+0000
TZNAME:UTC
DTSTART:20220101T000000
END:STANDARD
END:VTIMEZONE
BEGIN:VEVENT
DTSTART;TZID=UTC:20231014T160000
DTEND;TZID=UTC:20231014T180000
DTSTAMP:20260422T164335
CREATED:20251230T164436Z
LAST-MODIFIED:20260218T163736Z
UID:7132-1697299200-1697306400@amecmd.ma
SUMMARY:Opportunités en Marketing Digital pour 2024 et au-delà : Quelles opportunités se profilent à l'horizon pour les novices ainsi que les vétérans du secteur ?
DESCRIPTION:
URL:https://amecmd.ma/action-evenement/opportunites-en-marketing-digital-pour-2024-et-au-dela-quelles-opportunites-se-profilent-a-lhorizon-pour-les-novices-ainsi-que-les-veterans-du-secteur/
LOCATION:Chambre de Commerce\, d’Industrie et de Services\, Casablanca\, Morocco
END:VEVENT
END:VCALENDAR